Workbook

Sheet FACULTY'S SELF EVALUATIONS
C3: HOODING CEREMONY 2026 | OUTSTANDING POSTGRADUATE PERFORMANCE
C7: FACULTY
C10: NUMBER OF GRADUATES IN THE CURRENT YEAR
C11: CRITERIA | D11: Number of Student | E11: Weightage | F11: Total Marks
C12: Master by Research | E12: 3 | F12: =E12*D12 -> 0
C13: PhD by Research | E13: 5 | F13: =E13*D13 -> 0
C14: Total Marks | F14: =SUM(F12:F13) -> 0
C16: VERDICT OF VIVA VOCE
C17: CRITERIA | D17: Number of Student | E17: Weightage | F17: Total Marks
C18: Pass with No Correction | E18: 7 | F18: =E18*D18 -> 0
C19: Pass with Minor Correction | E19: 4 | F19: =E19*D19 -> 0
C20: Pass with Major Correction | E20: 3 | F20: =E20*D20 -> 0
C21: Total Marks | F21: =SUM(F18:F20) -> 0
C23: DURATION OF STUDY TO CONFEREMENT OF DEGREE
C24: CRITERIA | D24: Number of Student | E24: Weightage | F24: Total Marks
C25: Master : 12 Months - 18 Months | E25: 5 | F25: =E25*D25 -> 0
C26: Master : 19 Months - 25 Months | E26: 4 | F26: =E26*D26 -> 0
C27: Master : 26 Months - 32 Months | E27: 3 | F27: =E27*D27 -> 0
C28: PhD : 24 Months - 35 Months | E28: 5 | F28: =E28*D28 -> 0
C29: PhD : 36 Months - 47 Months | E29: 4 | F29: =E29*D29 -> 0
C30: PhD : 48 Months - 59 Months | E30: 3 | F30: =E30*D30 -> 0
C31: Total Marks | F31: =SUM(F25:F30) -> 0
C33: Grand Total | F33: =SUM(F31,F21,F14) -> 0

Sheet COMMITTEE FINAL ASSESSMENT
C3: HOODING CEREMONY 2026 | OUTSTANDING POSTGRADUATE PERFORMANCE AWARD
C6: FACULTY | D6: CGS COMMITTE'S FINAL VERDICT
C7: ='FACULTY''S SELF EVALUATIONS'!C8 -> 0
C9: ENDORSEMENT BY CGS COMMITTE (SIGNATURE AND OFFICIAL STAMP)
C15: NUMBER OF GRADUATES IN THE CURRENT YEAR
C16: CRITERIA | D16: Number of Student | F16: Weightage | G16: Total Marks
D17: Faculty's Assessment | E17: CGS' Assessment | G17: Faculty's Assessment | H17: CGS' Assessment
C18: Master by Research | D18: ='FACULTY''S SELF EVALUATIONS'!D12 -> 0 | F18: 3 | G18: =D18*F18 -> 0 | H18: =E18*F18 -> 0
C19: PhD by Research | D19: ='FACULTY''S SELF EVALUATIONS'!D13 -> 0 | F19: 5 | G19: =D19*F19 -> 0 | H19: =E19*F19 -> 0
C20: Total Marks | G20: =SUM(G18:G19) -> 0 | H20: =SUM(H18:H19) -> 0
C22: NUMBER OF GRADUATES IN THE CURRENT YEAR
C23: CRITERIA | D23: Number of Student | F23: Weightage | G23: Total Marks
D24: Faculty's Assessment | E24: CGS' Assessment | G24: Faculty's Assessment | H24: CGS' Assessment
C25: Pass with No Correction | D25: ='FACULTY''S SELF EVALUATIONS'!D18 -> 0 | F25: 7 | G25: =D25*F25 -> 0 | H25: =E25*F25 -> 0
C26: Pass with Minor Correction | D26: ='FACULTY''S SELF EVALUATIONS'!D19 -> 0 | F26: 4 | G26: =D26*F26 -> 0 | H26: =E26*F26 -> 0
C27: Pass with Major Correction | D27: ='FACULTY''S SELF EVALUATIONS'!D20 -> 0 | F27: 3 | G27: =D27*F27 -> 0 | H27: =E27*F27 -> 0
C28: Total Marks | G28: =SUM(G25:G27) -> 0 | H28: =SUM(H25:H27) -> 0
C30: DURATION OF STUDY TO CONFEREMENT OF DEGREE
C31: CRITERIA | D31: Number of Student | F31: Weightage | G31: Total Marks
D32: Faculty's Assessment | E32: CGS' Assessment | G32: Faculty's Assessment | H32: CGS' Assessment
C33: Master : 12 Months - 18 Months | D33: ='FACULTY''S SELF EVALUATIONS'!D25 -> 0 | F33: 5 | G33: =D33*F33 -> 0 | H33: =E33*F33 -> 0
C34: Master : 19 Months - 25 Months | D34: ='FACULTY''S SELF EVALUATIONS'!D26 -> 0 | F34: 4 | G34: =D34*F34 -> 0 | H34: =E34*F34 -> 0
C35: Master : 26 Months - 32 Months | D35: ='FACULTY''S SELF EVALUATIONS'!D27 -> 0 | F35: 3 | G35: =D35*F35 -> 0 | H35: =E35*F35 -> 0
C36: PhD : 24 Months - 35 Months | D36: ='FACULTY''S SELF EVALUATIONS'!D28 -> 0 | F36: 5 | G36: =D36*F36 -> 0 | H36: =E36*F36 -> 0
C37: PhD : 36 Months - 47 Months | D37: ='FACULTY''S SELF EVALUATIONS'!D29 -> 0 | F37: 4 | G37: =D37*F37 -> 0 | H37: =E37*F37 -> 0
C38: PhD : 48 Months - 59 Months | D38: ='FACULTY''S SELF EVALUATIONS'!D30 -> 0 | F38: 3 | G38: =D38*F38 -> 0 | H38: =E38*F38 -> 0
C39: Total Marks | G39: =SUM(G33:G38) -> 0 | H39: =SUM(H33:H38) -> 0
C41: Grand Total | G41: =SUM(G39,G28,G20) -> 0 | H41: =SUM(H20) -> 0

Sheet LISTING
B2: FACULTY OF CIVIL ENGINEERING AND BUILT ENVIRONMENT
B3: FACULTY OF ELECTRIC AND ELECTRONIC ENGINEERING
B4: FACULTY OF MECHANICAL AND MANUFACTURING ENGINEERING
B5: FACULTY OF TECHNICAL AND VOCATIONAL EDUCATION
B6: FACULTY OF TECHNOLOGY MANAGEMENT AND BUSINESS
B7: FACULTY OF APPLIED SCIENCE AND TECHNOLOGY
B8: FACULTY OF SCIENCE COMPUTER AND INFORMATION TECHNOLOGY
B9: FACULTY OF ENGINEERING TECHNOLOGY
B10: CENTRE FOR GENERAL STUDIES AND CO-CURRICULUM
B11: CENTRE FOR LANGUAGE STUDIES
B12: JOHOR BUSINESS SCHOOL
B14: MASTERS
... B18: NOT SELECTED AS THE CANDIDATE FOR THE AWARD
B20: 0
B21: 1
B23: SELECTED AS THE WINNER FOR THE AWARD
B24: NOT SELECTED AS THE WINNER FOR THE AWARD
